{
 "currentVersion": 10.51,
 "serviceDescription": "Colour Basemap",
 "mapName": "Layers",
 "description": "",
 "copyrightText": "© Crown copyright and database rights 2019 Ordnance Survey 100018261",
 "supportsDynamicLayers": true,
 "layers": [
  {
   "id": 0,
   "name": "OS MiniScale",
   "parentLayerId": -1,
   "defaultVisibility": true,
   "subLayerIds": null,
   "minScale": 0,
   "maxScale": 200001
  },
  {
   "id": 1,
   "name": "OS VectorMap Local Colour",
   "parentLayerId": -1,
   "defaultVisibility": true,
   "subLayerIds": null,
   "minScale": 12500,
   "maxScale": 8001
  },
  {
   "id": 2,
   "name": "OS 25",
   "parentLayerId": -1,
   "defaultVisibility": true,
   "subLayerIds": null,
   "minScale": 30000,
   "maxScale": 12501
  },
  {
   "id": 3,
   "name": "OS 250",
   "parentLayerId": -1,
   "defaultVisibility": true,
   "subLayerIds": null,
   "minScale": 200000,
   "maxScale": 50001
  },
  {
   "id": 4,
   "name": "OS 50",
   "parentLayerId": -1,
   "defaultVisibility": true,
   "subLayerIds": null,
   "minScale": 50000,
   "maxScale": 30001
  }
 ],
 "tables": [],
 "spatialReference": {
  "wkid": 27700,
  "latestWkid": 27700
 },
 "singleFusedMapCache": true,
 "tileInfo": {
  "rows": 256,
  "cols": 256,
  "dpi": 96,
  "format": "PNG",
  "compressionQuality": 0,
  "origin": {
   "x": -5220400,
   "y": 4470200
  },
  "spatialReference": {
   "wkid": 27700,
   "latestWkid": 27700
  },
  "lods": [
   {
    "level": 0,
    "resolution": 66.1459656252646,
    "scale": 250000
   },
   {
    "level": 1,
    "resolution": 33.0729828126323,
    "scale": 125000
   },
   {
    "level": 2,
    "resolution": 19.843789687579378,
    "scale": 75000
   },
   {
    "level": 3,
    "resolution": 10.583354500042335,
    "scale": 40000
   },
   {
    "level": 4,
    "resolution": 6.614596562526459,
    "scale": 25000
   },
   {
    "level": 5,
    "resolution": 3.1750063500127004,
    "scale": 12000
   },
   {
    "level": 6,
    "resolution": 2.116935483870968,
    "scale": 8001
   }
  ]
 },
 "initialExtent": {
  "xmin": 625830.1898945753,
  "ymin": 165686.2725133498,
  "xmax": 644959.6031534019,
  "ymax": 173557.64242275627,
  "spatialReference": {
   "wkid": 27700,
   "latestWkid": 27700
  }
 },
 "fullExtent": {
  "xmin": 0,
  "ymin": 0,
  "xmax": 700000,
  "ymax": 1300000,
  "spatialReference": {
   "wkid": 27700,
   "latestWkid": 27700
  }
 },
 "minScale": 250000,
 "maxScale": 8001,
 "units": "esriMeters",
 "supportedImageFormatTypes": "PNG32,PNG24,PNG,JPG,DIB,TIFF,EMF,PS,PDF,GIF,SVG,SVGZ,BMP",
 "documentInfo": {
  "Title": "",
  "Author": "",
  "Comments": "Colour Basemap",
  "Subject": "Colour Basemap - Base map data minus the MasterMap - for use in Thanet users' ArcGIS Pro projects",
  "Category": "",
  "AntialiasingMode": "None",
  "TextAntialiasingMode": "Force",
  "Keywords": "OS Data"
 },
 "capabilities": "Map,Query,Data",
 "supportedQueryFormats": "JSON, AMF, geoJSON",
 "exportTilesAllowed": false,
 "supportsDatumTransformation": true,
 "maxRecordCount": 1000,
 "maxImageHeight": 4096,
 "maxImageWidth": 4096,
 "supportedExtensions": ""
}
