{
 "currentVersion": 10.51,
 "serviceDescription": "Colour Basemap",
 "mapName": "Layers",
 "description": "",
 "copyrightText": "© Crown copyright and database rights 2016 Ordnance Survey 100018261",
 "supportsDynamicLayers": true,
 "layers": [
  {
   "id": 0,
   "name": "Colour Basemap",
   "parentLayerId": -1,
   "defaultVisibility": true,
   "subLayerIds": [
    1,
    6
   ],
   "minScale": 0,
   "maxScale": 0
  },
  {
   "id": 1,
   "name": "Mastermap",
   "parentLayerId": 0,
   "defaultVisibility": true,
   "subLayerIds": [
    2,
    4,
    5
   ],
   "minScale": 0,
   "maxScale": 0
  },
  {
   "id": 2,
   "name": "Carto Text",
   "parentLayerId": 1,
   "defaultVisibility": true,
   "subLayerIds": [
    3
   ],
   "minScale": 3000,
   "maxScale": 100
  },
  {
   "id": 3,
   "name": "Default",
   "parentLayerId": 2,
   "defaultVisibility": true,
   "subLayerIds": null,
   "minScale": 0,
   "maxScale": 0
  },
  {
   "id": 4,
   "name": "Topo Lines",
   "parentLayerId": 1,
   "defaultVisibility": true,
   "subLayerIds": null,
   "minScale": 4000,
   "maxScale": 100
  },
  {
   "id": 5,
   "name": "Topo Areas",
   "parentLayerId": 1,
   "defaultVisibility": true,
   "subLayerIds": null,
   "minScale": 4000,
   "maxScale": 100
  },
  {
   "id": 6,
   "name": "Raster Data",
   "parentLayerId": 0,
   "defaultVisibility": true,
   "subLayerIds": [
    7,
    8,
    9,
    10,
    11
   ],
   "minScale": 0,
   "maxScale": 0
  },
  {
   "id": 7,
   "name": "Third_Party_Data.THIRD_PARTY_ADMIN.OS_MiniScale",
   "parentLayerId": 6,
   "defaultVisibility": true,
   "subLayerIds": null,
   "minScale": 1000000,
   "maxScale": 200001
  },
  {
   "id": 8,
   "name": "Third_Party_Data.THIRD_PARTY_ADMIN.OS_VectorMap_Local_Colour",
   "parentLayerId": 6,
   "defaultVisibility": true,
   "subLayerIds": null,
   "minScale": 12500,
   "maxScale": 4001
  },
  {
   "id": 9,
   "name": "Third_Party_Data.THIRD_PARTY_ADMIN.OS_25",
   "parentLayerId": 6,
   "defaultVisibility": true,
   "subLayerIds": null,
   "minScale": 30000,
   "maxScale": 12501
  },
  {
   "id": 10,
   "name": "Third_Party_Data.THIRD_PARTY_ADMIN.OS_250",
   "parentLayerId": 6,
   "defaultVisibility": true,
   "subLayerIds": null,
   "minScale": 200000,
   "maxScale": 50001
  },
  {
   "id": 11,
   "name": "Third_Party_Data.THIRD_PARTY_ADMIN.OS_50",
   "parentLayerId": 6,
   "defaultVisibility": true,
   "subLayerIds": null,
   "minScale": 50000,
   "maxScale": 30001
  }
 ],
 "tables": [],
 "spatialReference": {
  "wkid": 27700,
  "latestWkid": 27700
 },
 "singleFusedMapCache": true,
 "tileInfo": {
  "rows": 256,
  "cols": 256,
  "dpi": 96,
  "format": "PNG32",
  "compressionQuality": 0,
  "origin": {
   "x": -5220400,
   "y": 4470200
  },
  "spatialReference": {
   "wkid": 27700,
   "latestWkid": 27700
  },
  "lods": [
   {
    "level": 0,
    "resolution": 105.83354500042334,
    "scale": 400000
   },
   {
    "level": 1,
    "resolution": 52.91677250021167,
    "scale": 200000
   },
   {
    "level": 2,
    "resolution": 26.458386250105836,
    "scale": 100000
   },
   {
    "level": 3,
    "resolution": 13.229193125052918,
    "scale": 50000
   },
   {
    "level": 4,
    "resolution": 6.614596562526459,
    "scale": 25000
   },
   {
    "level": 5,
    "resolution": 3.1750063500127004,
    "scale": 12000
   },
   {
    "level": 6,
    "resolution": 1.5875031750063502,
    "scale": 6000
   },
   {
    "level": 7,
    "resolution": 0.7937515875031751,
    "scale": 3000
   },
   {
    "level": 8,
    "resolution": 0.33072982812632296,
    "scale": 1250
   },
   {
    "level": 9,
    "resolution": 0.13229193125052918,
    "scale": 500
   },
   {
    "level": 10,
    "resolution": 0.06614596562526459,
    "scale": 250
   }
  ]
 },
 "initialExtent": {
  "xmin": 540859.7496723046,
  "ymin": 110851.96759404225,
  "xmax": 710087.5881279816,
  "ymax": 197741.30803938984,
  "spatialReference": {
   "wkid": 27700,
   "latestWkid": 27700
  }
 },
 "fullExtent": {
  "xmin": 0,
  "ymin": 0,
  "xmax": 700000,
  "ymax": 1300000,
  "spatialReference": {
   "wkid": 27700,
   "latestWkid": 27700
  }
 },
 "minScale": 400000,
 "maxScale": 250,
 "units": "esriMeters",
 "supportedImageFormatTypes": "PNG32,PNG24,PNG,JPG,DIB,TIFF,EMF,PS,PDF,GIF,SVG,SVGZ,BMP",
 "documentInfo": {
  "Title": "",
  "Author": "",
  "Comments": "Colour Basemap",
  "Subject": "Colour Basemap",
  "Category": "",
  "AntialiasingMode": "None",
  "TextAntialiasingMode": "Force",
  "Keywords": "OS Data"
 },
 "capabilities": "Map,Query,Data",
 "supportedQueryFormats": "JSON, AMF, geoJSON",
 "exportTilesAllowed": false,
 "supportsDatumTransformation": true,
 "maxRecordCount": 1000,
 "maxImageHeight": 4096,
 "maxImageWidth": 4096,
 "supportedExtensions": "WMSServer"
}
