{
 "currentVersion": 10.51,
 "serviceDescription": "2008 Aerial Image",
 "mapName": "Layers",
 "description": "",
 "copyrightText": "© Getmapping 2008",
 "supportsDynamicLayers": false,
 "layers": [
  {
   "id": 0,
   "name": "Aerial 2008",
   "parentLayerId": -1,
   "defaultVisibility": true,
   "subLayerIds": null,
   "minScale": 400001,
   "maxScale": 100
  }
 ],
 "tables": [],
 "spatialReference": {
  "wkid": 27700,
  "latestWkid": 27700
 },
 "singleFusedMapCache": true,
 "tileInfo": {
  "rows": 256,
  "cols": 256,
  "dpi": 96,
  "format": "PNG32",
  "compressionQuality": 0,
  "origin": {
   "x": -5220400,
   "y": 4470200
  },
  "spatialReference": {
   "wkid": 27700,
   "latestWkid": 27700
  },
  "lods": [
   {
    "level": 0,
    "resolution": 105.83354500042334,
    "scale": 400000
   },
   {
    "level": 1,
    "resolution": 52.91677250021167,
    "scale": 200000
   },
   {
    "level": 2,
    "resolution": 26.458386250105836,
    "scale": 100000
   },
   {
    "level": 3,
    "resolution": 13.229193125052918,
    "scale": 50000
   },
   {
    "level": 4,
    "resolution": 6.614596562526459,
    "scale": 25000
   },
   {
    "level": 5,
    "resolution": 3.1750063500127004,
    "scale": 12000
   },
   {
    "level": 6,
    "resolution": 1.5875031750063502,
    "scale": 6000
   },
   {
    "level": 7,
    "resolution": 0.7937515875031751,
    "scale": 3000
   },
   {
    "level": 8,
    "resolution": 0.33072982812632296,
    "scale": 1250
   },
   {
    "level": 9,
    "resolution": 0.13229193125052918,
    "scale": 500
   },
   {
    "level": 10,
    "resolution": 0.06614596562526459,
    "scale": 250
   }
  ]
 },
 "initialExtent": {
  "xmin": 619499.7847919656,
  "ymin": 153717.57532281204,
  "xmax": 639500.2152080344,
  "ymax": 173282.42467718796,
  "spatialReference": {
   "wkid": 27700,
   "latestWkid": 27700
  }
 },
 "fullExtent": {
  "xmin": 618000,
  "ymin": 156000,
  "xmax": 641000,
  "ymax": 171000,
  "spatialReference": {
   "wkid": 27700,
   "latestWkid": 27700
  }
 },
 "minScale": 400000,
 "maxScale": 250,
 "units": "esriMeters",
 "supportedImageFormatTypes": "PNG32,PNG24,PNG,JPG,DIB,TIFF,EMF,PS,PDF,GIF,SVG,SVGZ,BMP",
 "documentInfo": {
  "Title": "",
  "Author": "",
  "Comments": "",
  "Subject": "",
  "Category": "",
  "AntialiasingMode": "Fast",
  "TextAntialiasingMode": "Force",
  "Keywords": "Aerial Image"
 },
 "capabilities": "Map,Query,Data",
 "supportedQueryFormats": "JSON, AMF, geoJSON",
 "exportTilesAllowed": false,
 "supportsDatumTransformation": true,
 "maxRecordCount": 1000,
 "maxImageHeight": 4096,
 "maxImageWidth": 4096,
 "supportedExtensions": ""
}
